BEGIN:VCALENDAR
VERSION:2.0
PRODID:-//SHATAYU MULTI-SPECIALITY CLINIC - ECPv6.15.13//NONSGML v1.0//EN
CALSCALE:GREGORIAN
METHOD:PUBLISH
X-ORIGINAL-URL:https://shatayumulticlinic.com
X-WR-CALDESC:Events for SHATAYU MULTI-SPECIALITY CLINIC
REFRESH-INTERVAL;VALUE=DURATION:PT1H
X-Robots-Tag:noindex
X-PUBLISHED-TTL:PT1H
BEGIN:VTIMEZONE
TZID:UTC
BEGIN:STANDARD
TZOFFSETFROM:+0000
TZOFFSETTO:+0000
TZNAME:UTC
DTSTART:20210101T000000
END:STANDARD
END:VTIMEZONE
BEGIN:VEVENT
DTSTART;TZID=UTC:20220724T100000
DTEND;TZID=UTC:20220724T140000
DTSTAMP:20260424T085535
CREATED:20220719T071610Z
LAST-MODIFIED:20220719T072027Z
UID:3239-1658656800-1658671200@shatayumulticlinic.com
SUMMARY:Free Health Camp - On the occasion of Teej
DESCRIPTION:The following heath tests would be organized during the camp: \n\nHemoglobin Test\nBone Mineral Density Test\nHand Grip Test\nBP and Sugar\nBody Composition\n\nAttractions for Kids\nTiming: 11AM to 1PM \nFor Age Group (4-10 Yrs) \n\nSinging Competition\nDancing Competition\n\nFor Age Group (11-15 Yrs) \n\nRamp Walk in Traditional Dress\n\nAttractions for Ladies\nTiming: 11AM to 1PM \n\nGynae Consultation\nGeneral Physian COnsulation\nPhysiotherapy Consultation\nLast date to register: 20th July 2022 (Prior registration is mandatory)\n\nContact Dt. Misha 9717058253 \nInstructions\n\nPrior registration by 20th July 2022 is mandatory.\nFor dancing and singing\, song limit shoul dbe maximum 4 minutes\nParticipation gift will be given to all the participants.\nto register\, contact Dt. Misha 9717058253\nResults declared will be final\n\n    Print QR Code
URL:https://shatayumulticlinic.com/event/free-health-camp-on-the-occasion-of-teej/
LOCATION:Shatayu Multispeciality Clinics\, H. No. 2537\, Sector - 16\, Near Sagar Cinema\, Faridabad\, Haryana\, 121002\, India
CATEGORIES:General Health
ATTACH;FMTTYPE=image/jpeg:https://shatayumulticlinic.com/wp-content/uploads/2022/07/free-health-camp24072022-1.jpeg
END:VEVENT
END:VCALENDAR